BEGIN:VCALENDAR
VERSION:2.0
PRODID:-//John Yates Ministry - ECPv6.15.1.1//NONSGML v1.0//EN
CALSCALE:GREGORIAN
METHOD:PUBLISH
X-ORIGINAL-URL:https://johnyatesministry.com
X-WR-CALDESC:Events for John Yates Ministry
REFRESH-INTERVAL;VALUE=DURATION:PT1H
X-Robots-Tag:noindex
X-PUBLISHED-TTL:PT1H
BEGIN:VTIMEZONE
TZID:America/Chicago
BEGIN:DAYLIGHT
TZOFFSETFROM:-0600
TZOFFSETTO:-0500
TZNAME:CDT
DTSTART:20250309T080000
END:DAYLIGHT
BEGIN:STANDARD
TZOFFSETFROM:-0500
TZOFFSETTO:-0600
TZNAME:CST
DTSTART:20251102T070000
END:STANDARD
END:VTIMEZONE
BEGIN:VEVENT
DTSTART;TZID=America/Chicago:20250614T150000
DTEND;TZID=America/Chicago:20250614T160000
DTSTAMP:20260425T232553
CREATED:20250309T163009Z
LAST-MODIFIED:20250309T163009Z
UID:748-1749913200-1749916800@johnyatesministry.com
SUMMARY:VBS Wrap Up
DESCRIPTION:It’s the last day of VBS for West Philadelphia Baptist in Philadelphia\, MS. Me and the gang will be there to share in the fun!
URL:https://johnyatesministry.com/event/vbs-wrap-up/
LOCATION:West Philadelphia Baptist\, 256 Gum St\, Philadelphia\, MS\, 39350\, United States
END:VEVENT
END:VCALENDAR