BEGIN:VCALENDAR
VERSION:2.0
PRODID:-//John Yates Ministry - ECPv6.15.1.1//NONSGML v1.0//EN
CALSCALE:GREGORIAN
METHOD:PUBLISH
X-WR-CALNAME:John Yates Ministry
X-ORIGINAL-URL:https://johnyatesministry.com
X-WR-CALDESC:Events for John Yates Ministry
REFRESH-INTERVAL;VALUE=DURATION:PT1H
X-Robots-Tag:noindex
X-PUBLISHED-TTL:PT1H
BEGIN:VTIMEZONE
TZID:America/Chicago
BEGIN:DAYLIGHT
TZOFFSETFROM:-0600
TZOFFSETTO:-0500
TZNAME:CDT
DTSTART:20240310T080000
END:DAYLIGHT
BEGIN:STANDARD
TZOFFSETFROM:-0500
TZOFFSETTO:-0600
TZNAME:CST
DTSTART:20241103T070000
END:STANDARD
BEGIN:DAYLIGHT
TZOFFSETFROM:-0600
TZOFFSETTO:-0500
TZNAME:CDT
DTSTART:20250309T080000
END:DAYLIGHT
BEGIN:STANDARD
TZOFFSETFROM:-0500
TZOFFSETTO:-0600
TZNAME:CST
DTSTART:20251102T070000
END:STANDARD
END:VTIMEZONE
BEGIN:VEVENT
DTSTART;TZID=America/Chicago:20250803T100000
DTEND;TZID=America/Chicago:20250803T120000
DTSTAMP:20260425T161722
CREATED:20250404T005525Z
LAST-MODIFIED:20250404T005525Z
UID:756-1754215200-1754222400@johnyatesministry.com
SUMMARY:Pulpit Supply
DESCRIPTION:
URL:https://johnyatesministry.com/event/pulpit-supply-12/
LOCATION:MS
END:VEVENT
BEGIN:VEVENT
DTSTART;TZID=America/Chicago:20250625T173000
DTEND;TZID=America/Chicago:20250625T183000
DTSTAMP:20260425T161722
CREATED:20250430T215639Z
LAST-MODIFIED:20250516T192831Z
UID:770-1750872600-1750876200@johnyatesministry.com
SUMMARY:Country Fair Outreach
DESCRIPTION:This is an exciting event that has been ongoing for years. The County Fair Commissioner came to a pastor of a leading church in Pontotoc\, MS\, to request an evangelistic night during the fair. All area churches are encouraged to attend on this designated Wednesday night. About a 45 minute program with invitation. Past years have seen 1500-2000 in the agriculture arena. \nI’ve been asked to do the program this year and am excited to do so. My host church is West Heights Baptist Church in Pontotoc.
URL:https://johnyatesministry.com/event/country-fair-outreach/
LOCATION:West Heights Baptist Church\, 328 W Oxford St\, Pontotoc\, MS\, 38863\, United States
END:VEVENT
BEGIN:VEVENT
DTSTART;TZID=America/Chicago:20250619T180000
DTEND;TZID=America/Chicago:20250619T190000
DTSTAMP:20260425T161722
CREATED:20250116T024629Z
LAST-MODIFIED:20250116T024629Z
UID:728-1750356000-1750359600@johnyatesministry.com
SUMMARY:VBS Family Night
DESCRIPTION:Wrapping up a fun week of VBS with a concert for the family.
URL:https://johnyatesministry.com/event/vbs-family-night/
LOCATION:Pine Forest Baptist Church\, 10031 W Lauderdale Rd\, Collinsville\, MS\, 39235\, United States
END:VEVENT
BEGIN:VEVENT
DTSTART;TZID=America/Chicago:20250614T150000
DTEND;TZID=America/Chicago:20250614T160000
DTSTAMP:20260425T161722
CREATED:20250309T163009Z
LAST-MODIFIED:20250309T163009Z
UID:748-1749913200-1749916800@johnyatesministry.com
SUMMARY:VBS Wrap Up
DESCRIPTION:It’s the last day of VBS for West Philadelphia Baptist in Philadelphia\, MS. Me and the gang will be there to share in the fun!
URL:https://johnyatesministry.com/event/vbs-wrap-up/
LOCATION:West Philadelphia Baptist\, 256 Gum St\, Philadelphia\, MS\, 39350\, United States
END:VEVENT
BEGIN:VEVENT
DTSTART;TZID=America/Chicago:20250613T180000
DTEND;TZID=America/Chicago:20250613T190000
DTSTAMP:20260425T161722
CREATED:20250122T221400Z
LAST-MODIFIED:20250122T221400Z
UID:733-1749837600-1749841200@johnyatesministry.com
SUMMARY:VBS Family Night
DESCRIPTION:A concert for families to wrap up a week of VBS.
URL:https://johnyatesministry.com/event/vbs-family-night-2/
LOCATION:Hickory Ridge Baptist Church\, 319 Hickory Ridge Rd\, Florence\, MS\, 39073\, United States
END:VEVENT
BEGIN:VEVENT
DTSTART;TZID=America/Chicago:20250607T090000
DTEND;TZID=America/Chicago:20250607T150000
DTSTAMP:20260425T161722
CREATED:20250516T193037Z
LAST-MODIFIED:20250516T193037Z
UID:776-1749286800-1749308400@johnyatesministry.com
SUMMARY:VBS
DESCRIPTION:
URL:https://johnyatesministry.com/event/vbs-8/
LOCATION:Benton Baptist Church\, 933 Old Hwy 16\, Benton\, MS\, 39059\, United States
END:VEVENT
BEGIN:VEVENT
DTSTART;TZID=America/Chicago:20250601T160000
DTEND;TZID=America/Chicago:20250601T170000
DTSTAMP:20260425T161722
CREATED:20250402T194516Z
LAST-MODIFIED:20250402T194516Z
UID:750-1748793600-1748797200@johnyatesministry.com
SUMMARY:VBS Kickoff
DESCRIPTION:Another visit with my friends in Dyersburg\, TN. Looking forward to this kickoff!
URL:https://johnyatesministry.com/event/vbs-kickoff-2/
LOCATION:Beech Grove Baptist Church\, 2418 Bruceville Slab Rd\, Dyersburg\, TN\, 38024\, United States
END:VEVENT
BEGIN:VEVENT
DTSTART;TZID=America/Chicago:20250504T103000
DTEND;TZID=America/Chicago:20250504T103000
DTSTAMP:20260425T161722
CREATED:20241128T201729Z
LAST-MODIFIED:20241128T201729Z
UID:714-1746354600-1746354600@johnyatesministry.com
SUMMARY:Pulpit Supply
DESCRIPTION:
URL:https://johnyatesministry.com/event/pulpit-supply-14/
LOCATION:Benton Baptist Church\, 933 Old Hwy 16\, Benton\, MS\, 39039\, United States
END:VEVENT
BEGIN:VEVENT
DTSTART;TZID=America/Chicago:20250427T100000
DTEND;TZID=America/Chicago:20250501T200000
DTSTAMP:20260425T161722
CREATED:20250404T005212Z
LAST-MODIFIED:20250404T005212Z
UID:753-1745748000-1746129600@johnyatesministry.com
SUMMARY:Revival
DESCRIPTION:Looking forward to being with my long time friend\, Bro Johnny Collins and his sweet wife\, Patricia. Been doing ministry with these wonderful people for over 35 years.
URL:https://johnyatesministry.com/event/revival-14/
LOCATION:Calvary Baptist Church\, Louisville\, MS\, United States
END:VEVENT
BEGIN:VEVENT
DTSTART;TZID=America/Chicago:20250426T080000
DTEND;TZID=America/Chicago:20250426T170000
DTSTAMP:20260425T161722
CREATED:20250426T171313Z
LAST-MODIFIED:20250426T171313Z
UID:768-1745654400-1745686800@johnyatesministry.com
SUMMARY:Kids Back to School Event
DESCRIPTION:
URL:https://johnyatesministry.com/event/kids-back-to-school-event/
LOCATION:Salem Baptist Church\, 889 HWY 27 N\, Tylertown\, MS\, 39667\, United States
END:VEVENT
BEGIN:VEVENT
DTSTART;TZID=America/Chicago:20250420T080000
DTEND;TZID=America/Chicago:20250420T120000
DTSTAMP:20260425T161722
CREATED:20241205T221648Z
LAST-MODIFIED:20241205T221648Z
UID:720-1745136000-1745150400@johnyatesministry.com
SUMMARY:Children's Sunday School
DESCRIPTION:
URL:https://johnyatesministry.com/event/childrens-sunday-school/
LOCATION:First Baptist Church\, 4400 N Peachtree Rd\, Atlanta\, GA\, 30338\, United States
END:VEVENT
BEGIN:VEVENT
DTSTART;TZID=America/Chicago:20250412T090000
DTEND;TZID=America/Chicago:20250412T120000
DTSTAMP:20260425T161722
CREATED:20241205T221344Z
LAST-MODIFIED:20241205T221344Z
UID:717-1744448400-1744459200@johnyatesministry.com
SUMMARY:Community Outreach (tentative)
DESCRIPTION:
URL:https://johnyatesministry.com/event/community-outreach-tentative/
LOCATION:First Baptist Church\, 4400 N Peachtree Rd\, Atlanta\, GA\, 30338\, United States
END:VEVENT
BEGIN:VEVENT
DTSTART;TZID=America/Chicago:20250302T080000
DTEND;TZID=America/Chicago:20250331T170000
DTSTAMP:20260425T161722
CREATED:20250216T212518Z
LAST-MODIFIED:20250216T212518Z
UID:739-1740902400-1743440400@johnyatesministry.com
SUMMARY:Unavailable
DESCRIPTION:
URL:https://johnyatesministry.com/event/unavailable-5/
LOCATION:MS
END:VEVENT
BEGIN:VEVENT
DTSTART;TZID=America/Chicago:20250223T180000
DTEND;TZID=America/Chicago:20250223T200000
DTSTAMP:20260425T161722
CREATED:20241113T153126Z
LAST-MODIFIED:20241113T153126Z
UID:709-1740333600-1740340800@johnyatesministry.com
SUMMARY:Father/Daughter Banquet
DESCRIPTION:
URL:https://johnyatesministry.com/event/father-daughter-banquet/
LOCATION:Auburn Baptist Church\, 1138 CR-931\, Tupelo\, MS\, 38804\, United States
END:VEVENT
BEGIN:VEVENT
DTSTART;TZID=America/Chicago:20250211T180000
DTEND;TZID=America/Chicago:20250211T200000
DTSTAMP:20260425T161722
CREATED:20241231T020059Z
LAST-MODIFIED:20241231T020059Z
UID:724-1739296800-1739304000@johnyatesministry.com
SUMMARY:Senior Adult Banquet
DESCRIPTION:
URL:https://johnyatesministry.com/event/senior-adult-banquet-6/
LOCATION:Parkview Church of God\, 1750 MS-16\, Yazoo City\, MS\, 39194\, United States
END:VEVENT
BEGIN:VEVENT
DTSTART;TZID=America/Chicago:20250209T180000
DTEND;TZID=America/Chicago:20250209T190000
DTSTAMP:20260425T161722
CREATED:20241002T195929Z
LAST-MODIFIED:20241002T195929Z
UID:707-1739124000-1739127600@johnyatesministry.com
SUMMARY:UPWARDS Award Program
DESCRIPTION:
URL:https://johnyatesministry.com/event/upwards-award-program/
LOCATION:Bethel Baptist Church\, 3257 E Cottonwood Rd\, Dothan\, AL\, 36301\, United States
END:VEVENT
BEGIN:VEVENT
DTSTART;TZID=America/Chicago:20250208T180000
DTEND;TZID=America/Chicago:20250208T200000
DTSTAMP:20260425T161722
CREATED:20240411T172714Z
LAST-MODIFIED:20240411T172714Z
UID:637-1739037600-1739044800@johnyatesministry.com
SUMMARY:Valentine Banquet
DESCRIPTION:
URL:https://johnyatesministry.com/event/valentine-banquet/
LOCATION:Lebanon Baptist Church\, 845 Lebanon Rd\, Epworth\, GA\, 30541\, United States
END:VEVENT
BEGIN:VEVENT
DTSTART;TZID=America/Chicago:20250202T103000
DTEND;TZID=America/Chicago:20250202T120000
DTSTAMP:20260425T161722
CREATED:20240822T210510Z
LAST-MODIFIED:20240822T210510Z
UID:693-1738492200-1738497600@johnyatesministry.com
SUMMARY:Pulpit Supply
DESCRIPTION:
URL:https://johnyatesministry.com/event/pulpit-supply-8/
LOCATION:Benton Baptist Church\, 933 Old Hwy 16\, Benton\, MS\, 39039\, United States
END:VEVENT
BEGIN:VEVENT
DTSTART;TZID=America/Chicago:20250126T100000
DTEND;TZID=America/Chicago:20250126T120000
DTSTAMP:20260425T161722
CREATED:20240821T225116Z
LAST-MODIFIED:20240821T225116Z
UID:691-1737885600-1737892800@johnyatesministry.com
SUMMARY:Sunday Morning Service
DESCRIPTION:Excited to be with my friends\, again\, in Brewton\, AL
URL:https://johnyatesministry.com/event/sunday-morning-service-2/
LOCATION:Damascus Baptist Church\, 15986 US-29\, Brewton\, AL\, United States
END:VEVENT
BEGIN:VEVENT
DTSTART;TZID=America/Chicago:20250111T080000
DTEND;TZID=America/Chicago:20250111T170000
DTSTAMP:20260425T161722
CREATED:20240906T225020Z
LAST-MODIFIED:20240906T225020Z
UID:697-1736582400-1736614800@johnyatesministry.com
SUMMARY:Kids Day
DESCRIPTION:An all day event for kids. I will have two sessions\, speaking\, music\, and ventriloquism.
URL:https://johnyatesministry.com/event/kids-day-4/
LOCATION:First Baptist Church\, 102 E. Main Street\, Florence\, MS\, 39073\, United States
END:VEVENT
BEGIN:VEVENT
DTSTART;TZID=America/Chicago:20241229T103000
DTEND;TZID=America/Chicago:20241229T233000
DTSTAMP:20260425T161722
CREATED:20240925T162123Z
LAST-MODIFIED:20240925T162123Z
UID:705-1735468200-1735515000@johnyatesministry.com
SUMMARY:Pulpit Supply
DESCRIPTION:
URL:https://johnyatesministry.com/event/pulpit-supply-9/
LOCATION:Benton Baptist Church\, 933 Old Hwy 16\, Benton\, MS\, 39039\, United States
END:VEVENT
BEGIN:VEVENT
DTSTART;TZID=America/Chicago:20241214T100000
DTEND;TZID=America/Chicago:20241214T120000
DTSTAMP:20260425T161722
CREATED:20240404T221548Z
LAST-MODIFIED:20240404T221548Z
UID:634-1734170400-1734177600@johnyatesministry.com
SUMMARY:Kids Christmas Event
DESCRIPTION:Meet Me at the Manger \nExcited to be with the church we consider our “home” church in Enterprise\, AL. The ministry was based out of this wonderful church for 15 wonderful years.
URL:https://johnyatesministry.com/event/kids-christmas-event/
LOCATION:Hillcrest Baptist Church\, 500 Alberta St\, Enterprise\, AL\, 36330\, United States
END:VEVENT
BEGIN:VEVENT
DTSTART;TZID=America/Chicago:20241214T100000
DTEND;TZID=America/Chicago:20241214T120000
DTSTAMP:20260425T161722
CREATED:20240327T193452Z
LAST-MODIFIED:20240327T193452Z
UID:623-1734170400-1734177600@johnyatesministry.com
SUMMARY:Kids Christmas Celebration
DESCRIPTION:Excited to go back to the church family we called home for 15 wonderful years. Hillcrest Baptist Church in Enterprise\, AL. \nThis years Children’s event is called Meet Me at the Manger.
URL:https://johnyatesministry.com/event/kids-christmas-celebration/
LOCATION:Hillcrest Baptist Church\, 500 Alberta St\, Enterprise\, AL\, 36330\, United States
END:VEVENT
BEGIN:VEVENT
DTSTART;TZID=America/Chicago:20241201T103000
DTEND;TZID=America/Chicago:20241201T120000
DTSTAMP:20260425T161722
CREATED:20240710T015317Z
LAST-MODIFIED:20240710T015317Z
UID:680-1733049000-1733054400@johnyatesministry.com
SUMMARY:Pulpit Supply
DESCRIPTION:
URL:https://johnyatesministry.com/event/pulpit-supply-11/
LOCATION:Benton Baptist Church\, 933 Old Hwy 16\, Benton\, MS\, 39039\, United States
END:VEVENT
BEGIN:VEVENT
DTSTART;TZID=America/Chicago:20241110T110000
DTEND;TZID=America/Chicago:20241113T210000
DTSTAMP:20260425T161722
CREATED:20240906T224646Z
LAST-MODIFIED:20240906T224646Z
UID:696-1731236400-1731531600@johnyatesministry.com
SUMMARY:Revival
DESCRIPTION:I have the privilege of leading revival services (music and preaching) at Pleasant Grove Baptist Church\, Little Rock\, MS.
URL:https://johnyatesministry.com/event/revival-12/
LOCATION:MS
END:VEVENT
BEGIN:VEVENT
DTSTART;TZID=America/Chicago:20241107T110000
DTEND;TZID=America/Chicago:20241107T120000
DTSTAMP:20260425T161722
CREATED:20240925T012441Z
LAST-MODIFIED:20240925T012441Z
UID:699-1730977200-1730980800@johnyatesministry.com
SUMMARY:Senior Adult Luncheon
DESCRIPTION:
URL:https://johnyatesministry.com/event/senior-adult-luncheon-10/
LOCATION:Auburn Baptist Church\, 1138 CR-931\, Tupelo\, MS\, 38804\, United States
END:VEVENT
BEGIN:VEVENT
DTSTART;TZID=America/Chicago:20241103T103000
DTEND;TZID=America/Chicago:20241103T120000
DTSTAMP:20260425T161722
CREATED:20240710T015145Z
LAST-MODIFIED:20240710T015145Z
UID:678-1730629800-1730635200@johnyatesministry.com
SUMMARY:Pulpit Supply
DESCRIPTION:
URL:https://johnyatesministry.com/event/pulpit-supply-10/
LOCATION:Benton Baptist Church\, 933 Old Hwy 16\, Benton\, MN\, 39039\, United States
END:VEVENT
BEGIN:VEVENT
DTSTART;TZID=America/Chicago:20241013T103000
DTEND;TZID=America/Chicago:20241013T113000
DTSTAMP:20260425T161722
CREATED:20240925T161837Z
LAST-MODIFIED:20240925T161837Z
UID:703-1728815400-1728819000@johnyatesministry.com
SUMMARY:Pulpit Supply
DESCRIPTION:
URL:https://johnyatesministry.com/event/pulpit-supply-7/
LOCATION:Benton Baptist Church\, 933 Old Hwy 16\, Benton\, 39039
END:VEVENT
BEGIN:VEVENT
DTSTART;TZID=America/Chicago:20241004T170000
DTEND;TZID=America/Chicago:20241005T150000
DTSTAMP:20260425T161722
CREATED:20240710T014330Z
LAST-MODIFIED:20240710T014330Z
UID:674-1728061200-1728140400@johnyatesministry.com
SUMMARY:One Day Mission
DESCRIPTION:Arkansas Baptist Convention conducts area wide “1 Day Mission” where there will be multiple sites consisting of jump houses and activities along with gospel presentations. On Friday night there is a workers appreciation banquet. I will provide the entertainment/encouragement before the big day on Saturday. Possibly\, I will join a site or two on Saturday to present the gospel with some ventriloquism.
URL:https://johnyatesministry.com/event/one-day-mission/
LOCATION:Arkansas Baptist Convention\, 10 Remington Dr\, Little Rock\, AR\, 72204\, United States
END:VEVENT
BEGIN:VEVENT
DTSTART;TZID=America/Chicago:20240929T100000
DTEND;TZID=America/Chicago:20240929T170000
DTSTAMP:20260425T161722
CREATED:20240627T020959Z
LAST-MODIFIED:20240627T020959Z
UID:667-1727604000-1727629200@johnyatesministry.com
SUMMARY:5th Sunday Singing Guest
DESCRIPTION:
URL:https://johnyatesministry.com/event/5th-sunday-singing-guest/
LOCATION:Calvary Baptist Church\, 4109 Old Robinson Rd\, Louisville\, MS\, 39339\, United States
END:VEVENT
END:VCALENDAR