BEGIN:VCALENDAR
VERSION:2.0
PRODID:-//John Yates Ministry - ECPv6.15.1.1//NONSGML v1.0//EN
CALSCALE:GREGORIAN
METHOD:PUBLISH
X-WR-CALNAME:John Yates Ministry
X-ORIGINAL-URL:https://johnyatesministry.com
X-WR-CALDESC:Events for John Yates Ministry
REFRESH-INTERVAL;VALUE=DURATION:PT1H
X-Robots-Tag:noindex
X-PUBLISHED-TTL:PT1H
BEGIN:VTIMEZONE
TZID:America/Chicago
BEGIN:DAYLIGHT
TZOFFSETFROM:-0600
TZOFFSETTO:-0500
TZNAME:CDT
DTSTART:20270314T080000
END:DAYLIGHT
BEGIN:STANDARD
TZOFFSETFROM:-0500
TZOFFSETTO:-0600
TZNAME:CST
DTSTART:20271107T070000
END:STANDARD
END:VTIMEZONE
BEGIN:VEVENT
DTSTART;TZID=America/Chicago:20270220T083000
DTEND;TZID=America/Chicago:20270220T130000
DTSTAMP:20260425T155139
CREATED:20260322T231243Z
LAST-MODIFIED:20260322T231243Z
UID:824-1803112200-1803128400@johnyatesministry.com
SUMMARY:Kids D-Now
DESCRIPTION:This is a one day event that Simpson Co Baptist Association has been doing for a few short years and has seen a steady\, somewhat dramatic attendance bump each year. I’ve been with this event once before and look forward to being with them again. \nThe event moves to various host churches with this one being hosted by Poplar Springs Baptist Church in Mendenhall\, MS.
URL:https://johnyatesministry.com/event/kids-d-now/
LOCATION:Poplar Springs Baptist Church\, 362 Poplar Springs Rd\, Mendenhall\, MS\, 39114\, United States
END:VEVENT
END:VCALENDAR