BEGIN:VCALENDAR
VERSION:2.0
PRODID:-//John Yates Ministry - ECPv6.15.1.1//NONSGML v1.0//EN
CALSCALE:GREGORIAN
METHOD:PUBLISH
X-WR-CALNAME:John Yates Ministry
X-ORIGINAL-URL:https://johnyatesministry.com
X-WR-CALDESC:Events for John Yates Ministry
REFRESH-INTERVAL;VALUE=DURATION:PT1H
X-Robots-Tag:noindex
X-PUBLISHED-TTL:PT1H
BEGIN:VTIMEZONE
TZID:America/Chicago
BEGIN:DAYLIGHT
TZOFFSETFROM:-0600
TZOFFSETTO:-0500
TZNAME:CDT
DTSTART:20200308T080000
END:DAYLIGHT
BEGIN:STANDARD
TZOFFSETFROM:-0500
TZOFFSETTO:-0600
TZNAME:CST
DTSTART:20201101T070000
END:STANDARD
BEGIN:DAYLIGHT
TZOFFSETFROM:-0600
TZOFFSETTO:-0500
TZNAME:CDT
DTSTART:20210314T080000
END:DAYLIGHT
BEGIN:STANDARD
TZOFFSETFROM:-0500
TZOFFSETTO:-0600
TZNAME:CST
DTSTART:20211107T070000
END:STANDARD
BEGIN:DAYLIGHT
TZOFFSETFROM:-0600
TZOFFSETTO:-0500
TZNAME:CDT
DTSTART:20220313T080000
END:DAYLIGHT
BEGIN:STANDARD
TZOFFSETFROM:-0500
TZOFFSETTO:-0600
TZNAME:CST
DTSTART:20221106T070000
END:STANDARD
BEGIN:DAYLIGHT
TZOFFSETFROM:-0600
TZOFFSETTO:-0500
TZNAME:CDT
DTSTART:20230312T080000
END:DAYLIGHT
BEGIN:STANDARD
TZOFFSETFROM:-0500
TZOFFSETTO:-0600
TZNAME:CST
DTSTART:20231105T070000
END:STANDARD
BEGIN:DAYLIGHT
TZOFFSETFROM:-0600
TZOFFSETTO:-0500
TZNAME:CDT
DTSTART:20240310T080000
END:DAYLIGHT
BEGIN:STANDARD
TZOFFSETFROM:-0500
TZOFFSETTO:-0600
TZNAME:CST
DTSTART:20241103T070000
END:STANDARD
END:VTIMEZONE
BEGIN:VEVENT
DTSTART;TZID=America/Chicago:20240519T080000
DTEND;TZID=America/Chicago:20240519T170000
DTSTAMP:20260425T232948
CREATED:20240226T192137Z
LAST-MODIFIED:20240226T192137Z
UID:612-1716105600-1716138000@johnyatesministry.com
SUMMARY:Unavailable
DESCRIPTION:
URL:https://johnyatesministry.com/event/unavailable-3/
LOCATION:MS
END:VEVENT
BEGIN:VEVENT
DTSTART;TZID=America/Chicago:20240512T080000
DTEND;TZID=America/Chicago:20240512T170000
DTSTAMP:20260425T232948
CREATED:20240226T192101Z
LAST-MODIFIED:20240226T192101Z
UID:611-1715500800-1715533200@johnyatesministry.com
SUMMARY:Unavailable
DESCRIPTION:
URL:https://johnyatesministry.com/event/unavailable-2/
LOCATION:MS
END:VEVENT
BEGIN:VEVENT
DTSTART;TZID=America/Chicago:20240505T080000
DTEND;TZID=America/Chicago:20240505T170000
DTSTAMP:20260425T232948
CREATED:20240226T192009Z
LAST-MODIFIED:20240226T192009Z
UID:610-1714896000-1714928400@johnyatesministry.com
SUMMARY:Unavailable
DESCRIPTION:
URL:https://johnyatesministry.com/event/unavailable/
LOCATION:MS
END:VEVENT
BEGIN:VEVENT
DTSTART;TZID=America/Chicago:20240421T080000
DTEND;TZID=America/Chicago:20240421T170000
DTSTAMP:20260425T232948
CREATED:20240404T220136Z
LAST-MODIFIED:20240404T220136Z
UID:628-1713686400-1713718800@johnyatesministry.com
SUMMARY:Sunday AM Concert
DESCRIPTION:
URL:https://johnyatesministry.com/event/sunday-am-concert-2/
LOCATION:West Philadelphia Baptist\, 256 Gum St\, Philadelphia\, MS\, 39350\, United States
END:VEVENT
BEGIN:VEVENT
DTSTART;TZID=America/Chicago:20240413T131500
DTEND;TZID=America/Chicago:20240413T134500
DTSTAMP:20260425T232948
CREATED:20240404T215727Z
LAST-MODIFIED:20240408T203344Z
UID:626-1713014100-1713015900@johnyatesministry.com
SUMMARY:Kids Spring Gathering
DESCRIPTION:Held annually by Simpson County Baptist Association\, Mendenhall\, MS. Consisting of group worship\, small groups\, crafts\, etc\, lunch and finishing the day with John Yates Ministry. This years host church is Kennedy Springs Baptist Church\, Magee\, MS.
URL:https://johnyatesministry.com/event/kids-dnow/
LOCATION:Simpson Baptist Association\, 120 Simpson Baptist Drive\, Mendenhall\, MS\, 39114\, United States
END:VEVENT
BEGIN:VEVENT
DTSTART;TZID=America/Chicago:20240407T100000
DTEND;TZID=America/Chicago:20240407T200000
DTSTAMP:20260425T232948
CREATED:20240212T171059Z
LAST-MODIFIED:20240212T171059Z
UID:597-1712484000-1712520000@johnyatesministry.com
SUMMARY:AM Service and PM Family Concert
DESCRIPTION:
URL:https://johnyatesministry.com/event/am-service-and-pm-family-concert/
LOCATION:Jayess Baptist Church\, 1004 Jayess Rd\, Jayess\, MS\, 39641\, United States
END:VEVENT
BEGIN:VEVENT
DTSTART;TZID=America/Chicago:20240328T170000
DTEND;TZID=America/Chicago:20240328T190000
DTSTAMP:20260425T232948
CREATED:20240226T040457Z
LAST-MODIFIED:20240226T040457Z
UID:602-1711645200-1711652400@johnyatesministry.com
SUMMARY:Kids Easter Event
DESCRIPTION:A simultaneous service to the adults at Beech Grove Baptist Church.
URL:https://johnyatesministry.com/event/kids-easter-event/
LOCATION:Beech Grove Baptist Church\, 2418 Bruceville Slab Rd\, Dyersburg\, TN\, 38024\, United States
END:VEVENT
BEGIN:VEVENT
DTSTART;TZID=America/Chicago:20240308T190000
DTEND;TZID=America/Chicago:20240308T200000
DTSTAMP:20260425T232948
CREATED:20240306T173018Z
LAST-MODIFIED:20240306T173018Z
UID:616-1709924400-1709928000@johnyatesministry.com
SUMMARY:KidMin Conference
DESCRIPTION:Leading worship for the MS KidMin Conference\, Camp Garaywa in Clinton\, MS.
URL:https://johnyatesministry.com/event/kidmin-conference-2/
LOCATION:Camp Garaywa\, 312 Camp Garaywa Rd\, Clinton\, 39056\, United States
END:VEVENT
BEGIN:VEVENT
DTSTART;TZID=America/Chicago:20240301T170000
DTEND;TZID=America/Chicago:20240302T120000
DTSTAMP:20260425T232948
CREATED:20240112T231322Z
LAST-MODIFIED:20240112T231322Z
UID:591-1709312400-1709380800@johnyatesministry.com
SUMMARY:Kid's Retreat
DESCRIPTION:
URL:https://johnyatesministry.com/event/kids-retreat/
LOCATION:Puckett Baptist Church\, 6400 MS-18\, Brandon\, MS\, 39042\, United States
END:VEVENT
BEGIN:VEVENT
DTSTART;TZID=America/Chicago:20240226T180000
DTEND;TZID=America/Chicago:20240226T200000
DTSTAMP:20260425T232948
CREATED:20240212T170829Z
LAST-MODIFIED:20240212T170829Z
UID:595-1708970400-1708977600@johnyatesministry.com
SUMMARY:UPWARD Award Night
DESCRIPTION:
URL:https://johnyatesministry.com/event/upward-award-night/
LOCATION:Forest Baptist Church\, 439 E 1st St\, Forest \, MS\, 39074\, United States
END:VEVENT
BEGIN:VEVENT
DTSTART;TZID=America/Chicago:20240211T170000
DTEND;TZID=America/Chicago:20240211T190000
DTSTAMP:20260425T232948
CREATED:20240112T231057Z
LAST-MODIFIED:20240112T231057Z
UID:589-1707670800-1707678000@johnyatesministry.com
SUMMARY:UPWARD Awards
DESCRIPTION:
URL:https://johnyatesministry.com/event/upward-awards/
LOCATION:Bethel Baptist Church\, 3257 E Cottonwood Rd\, Dothan\, 36301\, United States
END:VEVENT
BEGIN:VEVENT
DTSTART;TZID=America/Chicago:20240128T103000
DTEND;TZID=America/Chicago:20240128T130000
DTSTAMP:20260425T232948
CREATED:20240112T230805Z
LAST-MODIFIED:20240112T230805Z
UID:587-1706437800-1706446800@johnyatesministry.com
SUMMARY:Sunday AM Concert
DESCRIPTION:
URL:https://johnyatesministry.com/event/sunday-am-concert/
LOCATION:Damascus Baptist Church\, 15986 US-29\, Brewton\, 36426\, United States
END:VEVENT
BEGIN:VEVENT
DTSTART;TZID=America/Chicago:20230423T100000
DTEND;TZID=America/Chicago:20230427T200000
DTSTAMP:20260425T232948
CREATED:20211007T140603Z
LAST-MODIFIED:20211007T140603Z
UID:573-1682244000-1682625600@johnyatesministry.com
SUMMARY:Revival
DESCRIPTION:Looking forward to spending some quality time with great friends I have known and worked with for almost 40 years\, I suppose. \nI’ll be leading worship for this meeting. Come join us.
URL:https://johnyatesministry.com/event/revival-11/
LOCATION:Calvary Baptist Church\, 4109 Old Robinson Rd\, Louisville\, MS\, 39339\, United States
END:VEVENT
BEGIN:VEVENT
DTSTART;TZID=America/Chicago:20230106T180000
DTEND;TZID=America/Chicago:20230107T120000
DTSTAMP:20260425T232948
CREATED:20221031T174248Z
LAST-MODIFIED:20221031T174248Z
UID:583-1673028000-1673092800@johnyatesministry.com
SUMMARY:Children's D-Now
DESCRIPTION:A new event. A kids weekend set to challenge a young walk in faith.
URL:https://johnyatesministry.com/event/childrens-d-now/
LOCATION:Puckett Baptist Church\, 6400 MS-18\, Brandon\, MS\, 39042\, United States
END:VEVENT
BEGIN:VEVENT
DTSTART;TZID=America/Chicago:20221118T200000
DTEND;TZID=America/Chicago:20221118T200000
DTSTAMP:20260425T232948
CREATED:20221031T173746Z
LAST-MODIFIED:20221031T173746Z
UID:581-1668801600-1668801600@johnyatesministry.com
SUMMARY:Thanksgiving Banquet
DESCRIPTION:A church wide event
URL:https://johnyatesministry.com/event/thanksgiving-banquet/
LOCATION:Balboa Baptist Church\, 415 Ponce de Leon Dr\, Hot Springs Village\, AR\, 71909\, United States
END:VEVENT
BEGIN:VEVENT
DTSTART;TZID=America/Chicago:20221113T170000
DTEND;TZID=America/Chicago:20221113T200000
DTSTAMP:20260425T232948
CREATED:20221031T173431Z
LAST-MODIFIED:20221031T173431Z
UID:579-1668358800-1668369600@johnyatesministry.com
SUMMARY:Harvest Supper
DESCRIPTION:Church wide dinner event.
URL:https://johnyatesministry.com/event/harvest-supper/
LOCATION:Crowder Baptist Church\, 300 Perkins Ave\, Crowder\, MS\, 38622\, United States
END:VEVENT
BEGIN:VEVENT
DTSTART;TZID=America/Chicago:20220403T110000
DTEND;TZID=America/Chicago:20220406T200000
DTSTAMP:20260425T232948
CREATED:20211007T140057Z
LAST-MODIFIED:20211007T140057Z
UID:570-1648983600-1649275200@johnyatesministry.com
SUMMARY:Revival
DESCRIPTION:Services with my long time friends at Salem Baptist Church\, Golden\, MS. Always a wonderful time of worship and fellowship. I’ll be doing the entire service this time and would love to see you.
URL:https://johnyatesministry.com/event/revival-10/
LOCATION:Salem Baptist Church\, 889 HWY 27 N\, Tylertown\, MS\, 39667\, United States
END:VEVENT
BEGIN:VEVENT
DTSTART;TZID=America/Chicago:20211113T080000
DTEND;TZID=America/Chicago:20211113T170000
DTSTAMP:20260425T232948
CREATED:20211007T135718Z
LAST-MODIFIED:20211007T135718Z
UID:568-1636790400-1636822800@johnyatesministry.com
SUMMARY:Family Night
DESCRIPTION:A fun night of celebrating family. A conference for all ages and my friends and I will be hanging out with the kids of New Chapel Hill. Going to be a great night!
URL:https://johnyatesministry.com/event/family-night/
LOCATION:New Chapel Hill Baptist Church\, 61 New Chapel Hill Rd\, West Monroe\, LA\, 71291\, United States
END:VEVENT
BEGIN:VEVENT
DTSTART;TZID=America/Chicago:20211108T130000
DTEND;TZID=America/Chicago:20211110T120000
DTSTAMP:20260425T232948
CREATED:20211007T135341Z
LAST-MODIFIED:20211007T135341Z
UID:567-1636376400-1636545600@johnyatesministry.com
SUMMARY:KidMin Conference
DESCRIPTION:Orange Beach retreat for Kid’s Ministers.
URL:https://johnyatesministry.com/event/kidmin-conference/
LOCATION:MS
END:VEVENT
BEGIN:VEVENT
DTSTART;TZID=America/Chicago:20211031T173000
DTEND;TZID=America/Chicago:20211031T193000
DTSTAMP:20260425T232948
CREATED:20211007T141337Z
LAST-MODIFIED:20211007T141337Z
UID:575-1635701400-1635708600@johnyatesministry.com
SUMMARY:Family Festival
DESCRIPTION:As Children’s Pastor here at FBC\, this is a big event for family and friends. In the past\, visitors far outweigh church family so the outreach has great potential. Looking forward to a fun night of Trunk or Treat\, games\, food and fellowship!
URL:https://johnyatesministry.com/event/family-festival/
LOCATION:Warren Farm\, 4095 Cox Rd\, Benton\, MS\, United States
END:VEVENT
BEGIN:VEVENT
DTSTART;TZID=America/Chicago:20211030T170000
DTEND;TZID=America/Chicago:20211030T200000
DTSTAMP:20260425T232948
CREATED:20211007T135106Z
LAST-MODIFIED:20211007T135106Z
UID:565-1635613200-1635624000@johnyatesministry.com
SUMMARY:Fall Festival
DESCRIPTION:Lots of fun games and food at Trinity Baptist Church\, Waynesboro\, MS. I’ll be kicking of the event at 5 pm. For all ages.
URL:https://johnyatesministry.com/event/fall-festival-5/
LOCATION:Trinity Baptist Church\, 520 Boyles Rd\, Waynesboro\, MS\, United States
END:VEVENT
BEGIN:VEVENT
DTSTART;TZID=America/Chicago:20201213T180000
DTEND;TZID=America/Chicago:20201213T200000
DTSTAMP:20260425T232948
CREATED:20201028T192839Z
LAST-MODIFIED:20201028T192839Z
UID:563-1607882400-1607889600@johnyatesministry.com
SUMMARY:Family Christmas Celebration
DESCRIPTION:An evening of fun with our Saviors birth as the focal point. Wynndale Baptist Church\, Byram\, MS.
URL:https://johnyatesministry.com/event/family-christmas-celebration/
LOCATION:Wynndale Baptist Church\, 11287 Springridge Rd\, Terry\, MS\, 39170\, United States
END:VEVENT
BEGIN:VEVENT
DTSTART;TZID=America/Chicago:20200615T080000
DTEND;TZID=America/Chicago:20200619T190000
DTSTAMP:20260425T232948
CREATED:20190821T165637Z
LAST-MODIFIED:20190821T165637Z
UID:537-1592208000-1592593200@johnyatesministry.com
SUMMARY:VBS
DESCRIPTION:True Life Church in Slidell\, LA\, is doing an exciting kids program they call FUEL.  An acronym for Faith Used in Everyday Life. \nI’m looking forward to working with them and their kids.
URL:https://johnyatesministry.com/event/vbs-6/
LOCATION:True Life Church\, 62160 Airport Road\, Slidell\, LA\, 70460\, United States
END:VEVENT
BEGIN:VEVENT
DTSTART;TZID=America/Chicago:20200601T080000
DTEND;TZID=America/Chicago:20200607T130000
DTSTAMP:20260425T232948
CREATED:20200218T201210Z
LAST-MODIFIED:20200218T201210Z
UID:562-1590998400-1591534800@johnyatesministry.com
SUMMARY:VBS
DESCRIPTION:FBC Yazoo City
URL:https://johnyatesministry.com/event/vbs-7/
LOCATION:MS
END:VEVENT
BEGIN:VEVENT
DTSTART;TZID=America/Chicago:20200430T173000
DTEND;TZID=America/Chicago:20200430T200000
DTSTAMP:20260425T232948
CREATED:20200218T200859Z
LAST-MODIFIED:20200218T200859Z
UID:561-1588267800-1588276800@johnyatesministry.com
SUMMARY:VBS Yazoo County Associational Conference
DESCRIPTION:Hosted by FBC Yazoo City
URL:https://johnyatesministry.com/event/vbs-yazoo-county-associational-conference/
LOCATION:MS
END:VEVENT
BEGIN:VEVENT
DTSTART;TZID=America/Chicago:20200427T170000
DTEND;TZID=America/Chicago:20200427T200000
DTSTAMP:20260425T232948
CREATED:20200218T200723Z
LAST-MODIFIED:20200218T200723Z
UID:560-1588006800-1588017600@johnyatesministry.com
SUMMARY:METRO Associational VBS Conference
DESCRIPTION:Hosted by FBC Flora\, MS
URL:https://johnyatesministry.com/event/metro-associational-vbs-conference/
LOCATION:MS
END:VEVENT
BEGIN:VEVENT
DTSTART;TZID=America/Chicago:20200419T100000
DTEND;TZID=America/Chicago:20200419T130000
DTSTAMP:20260425T232948
CREATED:20200218T200546Z
LAST-MODIFIED:20200218T200546Z
UID:559-1587290400-1587301200@johnyatesministry.com
SUMMARY:Sunday Morning Worship
DESCRIPTION:Union Baptist Church\, Raleigh\, MS
URL:https://johnyatesministry.com/event/sunday-morning-worship/
LOCATION:MS
END:VEVENT
BEGIN:VEVENT
DTSTART;TZID=America/Chicago:20200419T100000
DTEND;TZID=America/Chicago:20200419T120000
DTSTAMP:20260425T232948
CREATED:20191022T151915Z
LAST-MODIFIED:20191022T151915Z
UID:542-1587290400-1587297600@johnyatesministry.com
SUMMARY:Sunday AM Service
DESCRIPTION:Holding over\, from yesterday\, in the Raleigh area to be in the morning worship service! This time in a sister church\, Union Baptist Church.
URL:https://johnyatesministry.com/event/sunday-am-service/
LOCATION:Union Baptist Church\, Raleigh\, MS\, United States
END:VEVENT
BEGIN:VEVENT
DTSTART;TZID=America/Chicago:20200418T090000
DTEND;TZID=America/Chicago:20200418T120000
DTSTAMP:20260425T232948
CREATED:20191022T151623Z
LAST-MODIFIED:20191022T151623Z
UID:540-1587200400-1587211200@johnyatesministry.com
SUMMARY:Kids Mission Day
DESCRIPTION:It’s a great event in Raleigh\, MS\, for Smith County Baptist Assoc. Everything begins with a high energy worship service. After that\, the kids present all have mission projects. Upon their completion\, everyone gathers for another worship service and wrap up before lunch. A great day in the Lord.
URL:https://johnyatesministry.com/event/kids-mission-day/
LOCATION:LIberty Baptist Church\, Raleigh\, MS\, United States
END:VEVENT
BEGIN:VEVENT
DTSTART;TZID=America/Chicago:20200418T080000
DTEND;TZID=America/Chicago:20200418T150000
DTSTAMP:20260425T232948
CREATED:20200218T200430Z
LAST-MODIFIED:20200218T200430Z
UID:558-1587196800-1587222000@johnyatesministry.com
SUMMARY:Kids Day
DESCRIPTION:Raleigh\, MS
URL:https://johnyatesministry.com/event/kids-day-3/
LOCATION:MS
END:VEVENT
END:VCALENDAR