BEGIN:VCALENDAR
VERSION:2.0
PRODID:-//John Yates Ministry - ECPv6.15.1.1//NONSGML v1.0//EN
CALSCALE:GREGORIAN
METHOD:PUBLISH
X-ORIGINAL-URL:https://johnyatesministry.com
X-WR-CALDESC:Events for John Yates Ministry
REFRESH-INTERVAL;VALUE=DURATION:PT1H
X-Robots-Tag:noindex
X-PUBLISHED-TTL:PT1H
BEGIN:VTIMEZONE
TZID:America/Chicago
BEGIN:DAYLIGHT
TZOFFSETFROM:-0600
TZOFFSETTO:-0500
TZNAME:CDT
DTSTART:20250309T080000
END:DAYLIGHT
BEGIN:STANDARD
TZOFFSETFROM:-0500
TZOFFSETTO:-0600
TZNAME:CST
DTSTART:20251102T070000
END:STANDARD
END:VTIMEZONE
BEGIN:VEVENT
DTSTART;TZID=America/Chicago:20250427T100000
DTEND;TZID=America/Chicago:20250501T200000
DTSTAMP:20260425T232552
CREATED:20250404T005212Z
LAST-MODIFIED:20250404T005212Z
UID:753-1745748000-1746129600@johnyatesministry.com
SUMMARY:Revival
DESCRIPTION:Looking forward to being with my long time friend\, Bro Johnny Collins and his sweet wife\, Patricia. Been doing ministry with these wonderful people for over 35 years.
URL:https://johnyatesministry.com/event/revival-14/
LOCATION:Calvary Baptist Church\, Louisville\, MS\, United States
END:VEVENT
BEGIN:VEVENT
DTSTART;TZID=America/Chicago:20250504T103000
DTEND;TZID=America/Chicago:20250504T103000
DTSTAMP:20260425T232553
CREATED:20241128T201729Z
LAST-MODIFIED:20241128T201729Z
UID:714-1746354600-1746354600@johnyatesministry.com
SUMMARY:Pulpit Supply
DESCRIPTION:
URL:https://johnyatesministry.com/event/pulpit-supply-14/
LOCATION:Benton Baptist Church\, 933 Old Hwy 16\, Benton\, MS\, 39039\, United States
END:VEVENT
END:VCALENDAR