BEGIN:VCALENDAR
VERSION:2.0
PRODID:-//John Yates Ministry - ECPv6.15.1.1//NONSGML v1.0//EN
CALSCALE:GREGORIAN
METHOD:PUBLISH
X-WR-CALNAME:John Yates Ministry
X-ORIGINAL-URL:https://johnyatesministry.com
X-WR-CALDESC:Events for John Yates Ministry
REFRESH-INTERVAL;VALUE=DURATION:PT1H
X-Robots-Tag:noindex
X-PUBLISHED-TTL:PT1H
BEGIN:VTIMEZONE
TZID:America/Chicago
BEGIN:DAYLIGHT
TZOFFSETFROM:-0600
TZOFFSETTO:-0500
TZNAME:CDT
DTSTART:20260308T080000
END:DAYLIGHT
BEGIN:STANDARD
TZOFFSETFROM:-0500
TZOFFSETTO:-0600
TZNAME:CST
DTSTART:20261101T070000
END:STANDARD
END:VTIMEZONE
BEGIN:VEVENT
DTSTART;TZID=America/Chicago:20260304T080000
DTEND;TZID=America/Chicago:20260304T090000
DTSTAMP:20260425T102705
CREATED:20260122T171001Z
LAST-MODIFIED:20260122T171001Z
UID:793-1772611200-1772614800@johnyatesministry.com
SUMMARY:Elementary Chapel Service
DESCRIPTION:Preschool and Elementary Chapel for Manchester Academy\, Yazoo City
URL:https://johnyatesministry.com/event/elementary-chapel-service/
LOCATION:Manchester Academy\, 2132 Gordon Ave\, Yazoo City\, MS\, 39194\, United States
END:VEVENT
BEGIN:VEVENT
DTSTART;TZID=America/Chicago:20260310T173000
DTEND;TZID=America/Chicago:20260310T200000
DTSTAMP:20260425T102705
CREATED:20250414T020341Z
LAST-MODIFIED:20250414T020341Z
UID:766-1773163800-1773172800@johnyatesministry.com
SUMMARY:Worker Appreciation Banquet
DESCRIPTION:I’ve been with True Life Church several times and always enjoy my time with them. Looking forward to sharing in this special time.
URL:https://johnyatesministry.com/event/worker-appreciation-banquet/
LOCATION:True Life Church\, 62160 Airport Road\, Slidell\, LA\, 70460\, United States
END:VEVENT
BEGIN:VEVENT
DTSTART;TZID=America/Chicago:20260322T180000
DTEND;TZID=America/Chicago:20260324T200000
DTSTAMP:20260425T102705
CREATED:20260225T174713Z
LAST-MODIFIED:20260225T174713Z
UID:798-1774202400-1774382400@johnyatesministry.com
SUMMARY:Revival
DESCRIPTION:Leading worship for services at Benton Baptist Church
URL:https://johnyatesministry.com/event/revival-15/
LOCATION:Benton Baptist Church\, 933 Old Hwy 16\, Benton\, MS\, 39039\, United States
END:VEVENT
BEGIN:VEVENT
DTSTART;TZID=America/Chicago:20260330T180000
DTEND;TZID=America/Chicago:20260402T203000
DTSTAMP:20260425T102705
CREATED:20250618T174327Z
LAST-MODIFIED:20250618T174327Z
UID:779-1774893600-1775161800@johnyatesministry.com
SUMMARY:VBS
DESCRIPTION:I’ve been with my friends at True Life Church several times now and look forward to being with them again. In a “forward thinking/planning” way\, leadership has responded to the modified year round school schedule by doing their VBS the week of spring break. I look forward to being a part of it all and particularly how this idea will work out. Appreciate the prayers.
URL:https://johnyatesministry.com/event/vbs-9/
LOCATION:True Life Church\, 62160 Airport Road\, Slidell\, LA\, 70460\, United States
END:VEVENT
END:VCALENDAR