BEGIN:VCALENDAR
VERSION:2.0
PRODID:-//John Yates Ministry - ECPv6.15.1.1//NONSGML v1.0//EN
CALSCALE:GREGORIAN
METHOD:PUBLISH
X-WR-CALNAME:John Yates Ministry
X-ORIGINAL-URL:https://johnyatesministry.com
X-WR-CALDESC:Events for John Yates Ministry
REFRESH-INTERVAL;VALUE=DURATION:PT1H
X-Robots-Tag:noindex
X-PUBLISHED-TTL:PT1H
BEGIN:VTIMEZONE
TZID:America/Chicago
BEGIN:DAYLIGHT
TZOFFSETFROM:-0600
TZOFFSETTO:-0500
TZNAME:CDT
DTSTART:20260308T080000
END:DAYLIGHT
BEGIN:STANDARD
TZOFFSETFROM:-0500
TZOFFSETTO:-0600
TZNAME:CST
DTSTART:20261101T070000
END:STANDARD
END:VTIMEZONE
BEGIN:VEVENT
DTSTART;TZID=America/Chicago:20260531T100000
DTEND;TZID=America/Chicago:20260531T190000
DTSTAMP:20260425T102730
CREATED:20250902T193802Z
LAST-MODIFIED:20250902T193802Z
UID:785-1780221600-1780254000@johnyatesministry.com
SUMMARY:Family Day
DESCRIPTION:I always enjoy my time with my friend\, James Sanders\, at Jayess Baptist. I’ll have the morning service then at 5 pm\, I’ll have another service geared for kids. Always fun for everyone.
URL:https://johnyatesministry.com/event/family-day-5/
LOCATION:Jayess Baptist Church\, 1004 Jayess Rd\, Jayess\, MS\, 39641\, United States
END:VEVENT
END:VCALENDAR