BEGIN:VCALENDAR
VERSION:2.0
PRODID:-//John Yates Ministry - ECPv6.15.1.1//NONSGML v1.0//EN
CALSCALE:GREGORIAN
METHOD:PUBLISH
X-WR-CALNAME:John Yates Ministry
X-ORIGINAL-URL:https://johnyatesministry.com
X-WR-CALDESC:Events for John Yates Ministry
REFRESH-INTERVAL;VALUE=DURATION:PT1H
X-Robots-Tag:noindex
X-PUBLISHED-TTL:PT1H
BEGIN:VTIMEZONE
TZID:America/Chicago
BEGIN:DAYLIGHT
TZOFFSETFROM:-0600
TZOFFSETTO:-0500
TZNAME:CDT
DTSTART:20260308T080000
END:DAYLIGHT
BEGIN:STANDARD
TZOFFSETFROM:-0500
TZOFFSETTO:-0600
TZNAME:CST
DTSTART:20261101T070000
END:STANDARD
END:VTIMEZONE
BEGIN:VEVENT
DTSTART;TZID=America/Chicago:20260607T180000
DTEND;TZID=America/Chicago:20260607T190000
DTSTAMP:20260425T114155
CREATED:20260225T175732Z
LAST-MODIFIED:20260225T175732Z
UID:801-1780855200-1780858800@johnyatesministry.com
SUMMARY:VBS Family Night
DESCRIPTION:Wrapping up and celebrating a week of Vacation Bible School
URL:https://johnyatesministry.com/event/vbs-family-night-3/
LOCATION:Valley Grove Baptist Church’\, 3282 Kings Hwy\, Tupelo\, MS\, 38801\, United States
END:VEVENT
BEGIN:VEVENT
DTSTART;TZID=America/Chicago:20260613T080000
DTEND;TZID=America/Chicago:20260613T170000
DTSTAMP:20260425T114155
CREATED:20260225T180024Z
LAST-MODIFIED:20260225T180024Z
UID:804-1781337600-1781370000@johnyatesministry.com
SUMMARY:VBS
DESCRIPTION:
URL:https://johnyatesministry.com/event/vbs-10/
LOCATION:Benton Baptist Church\, 933 Old Hwy 16\, Benton\, MS\, 39039\, United States
END:VEVENT
BEGIN:VEVENT
DTSTART;TZID=America/Chicago:20260621T103000
DTEND;TZID=America/Chicago:20260621T113000
DTSTAMP:20260425T114155
CREATED:20260225T180150Z
LAST-MODIFIED:20260225T180150Z
UID:806-1782037800-1782041400@johnyatesministry.com
SUMMARY:Pulpit Supply
DESCRIPTION:
URL:https://johnyatesministry.com/event/pulpit-supply-18/
LOCATION:Benton Baptist Church\, 933 Old Hwy 16\, Benton\, MS\, 39039\, United States
END:VEVENT
BEGIN:VEVENT
DTSTART;TZID=America/Chicago:20260628T103000
DTEND;TZID=America/Chicago:20260628T113000
DTSTAMP:20260425T114155
CREATED:20260225T180259Z
LAST-MODIFIED:20260225T180259Z
UID:808-1782642600-1782646200@johnyatesministry.com
SUMMARY:Pulpit Supply
DESCRIPTION:
URL:https://johnyatesministry.com/event/pulpit-supply-19/
LOCATION:Benton Baptist Church\, 933 Old Hwy 16\, Benton\, MS\, 39059\, United States
END:VEVENT
END:VCALENDAR